BEGIN:VCALENDAR
VERSION:2.0
PRODID:-//Just Compete Sports - ECPv6.15.17//NONSGML v1.0//EN
CALSCALE:GREGORIAN
METHOD:PUBLISH
X-ORIGINAL-URL:https://justcompete.org
X-WR-CALDESC:Events for Just Compete Sports
REFRESH-INTERVAL;VALUE=DURATION:PT1H
X-Robots-Tag:noindex
X-PUBLISHED-TTL:PT1H
BEGIN:VTIMEZONE
TZID:UTC
BEGIN:STANDARD
TZOFFSETFROM:+0000
TZOFFSETTO:+0000
TZNAME:UTC
DTSTART:20240101T000000
END:STANDARD
END:VTIMEZONE
BEGIN:VEVENT
DTSTART;TZID=UTC:20260321T080000
DTEND;TZID=UTC:20260321T170000
DTSTAMP:20260421T184312
CREATED:20260113T060515Z
LAST-MODIFIED:20260121T170809Z
UID:3583-1774080000-1774112400@justcompete.org
SUMMARY:The Heartland Invitational 5v5
DESCRIPTION:5v5 THE HEARTLAND INVITATIONAL Spring Rush — The Drive Begins\nFootball (5v5) Tournament – March 21\, 2026
URL:https://justcompete.org/event/the-heartland-invitational-5v5/
CATEGORIES:Girls Play Flag Football,Kansas City Flag Football,Tournaments
ATTACH;FMTTYPE=image/jpeg:https://justcompete.org/wp-content/uploads/2026/01/Spring_Tournament_KC_940x516.jpg
ORGANIZER;CN="Troy Bailey":MAILTO:troy@justcompete.org
END:VEVENT
BEGIN:VEVENT
DTSTART;TZID=UTC:20260321T080000
DTEND;TZID=UTC:20260321T170000
DTSTAMP:20260421T184312
CREATED:20260113T060357Z
LAST-MODIFIED:20260113T060357Z
UID:3581-1774080000-1774112400@justcompete.org
SUMMARY:The Heartland Invitational 7v7
DESCRIPTION:
URL:https://justcompete.org/event/the-heartland-invitational-7v7/
CATEGORIES:Girls Play Flag Football,Kansas City Flag Football,Tournaments
ATTACH;FMTTYPE=image/jpeg:https://justcompete.org/wp-content/uploads/2026/01/Spring_Tournament_KC_940x516.jpg
ORGANIZER;CN="Troy Bailey":MAILTO:troy@justcompete.org
END:VEVENT
BEGIN:VEVENT
DTSTART;TZID=UTC:20250914T140000
DTEND;TZID=UTC:20250914T170000
DTSTAMP:20260421T184312
CREATED:20250512T065238Z
LAST-MODIFIED:20250802T034032Z
UID:2746-1757858400-1757869200@justcompete.org
SUMMARY:Colorado NFL FLAG Showdown: The Just Compete Fall Preseason Classic (Fundraiser for Suicide Prevention)
DESCRIPTION:Description\nColorado NFL FLAG Showdown: The Just Compete Fall PreSeason Classic \n2025 Colorado Preseason NFL FLAG Tournament \n🚩 FREE Team Registration! Join the excitement and compete in the Colorado Preseason NFL FLAG Tournament without any registration fees! \n🚪 Gate Fee: $10 (Includes Players & Spectators)Your entry supports the tournament’s success\, covering referees\, field staff\, and more. Receive a wristband for full tournament access. \n📅 Date & Location: Colorado Springs\, CO – Garry Berry Stadium / September 14\, 2025 \n🏆 What’s in it for You? \n\n\nGuaranteed fun and competitive play\n\n\nProfessional referees and organized games\n\n\nMinimum of 3 games per team\n\n\nRings for Division Winners\n\n\n✨ Highlights: \n\n\nFREE team registration\n\n\n👉 Secure Your Team’s Spot! \nDon’t miss out on this incredible opportunity to kick off your flag football season bring you team! This will be FUN event offering a unique platform for teams of all skill levels to engage in healthy competition\, develop their flag football abilities\, and most importantly\, have a blast with peers who share the same enthusiasm for the sport. \nQuestions? Email tournaments@justcompete.org \nSport\nCoed Football (Flag) \nDivisions\n\nShula – 8U\n\n*For example – Must be 8 years old or younger before August 1\, 2024\nMin Players : 5\nMax Players : 10\n\n\nMadden Rookie – 10U\n\n*For example – Must be 10 years old or younger before August 1\, 2024\nMin Players : 5\nMax Players : 10\n\n\nMadden Pro – 12U\n\n*For example – Must be 12 years old or younger before August 1\, 2024\nMin Players : 5\nMax Players : 10\n\n\nMadden All Pro – 14U\n\n*For example – Must be 14 years old or younger before August 1\, 2024\nMin Players : 5\nMax Players : 10
URL:https://justcompete.org/event/pre-season-tournament-suicide-prevention-fundraiser/
LOCATION:Garry Berry Stadium\, 2020 Glenn Summer Rd\, Colorado Springs\, CO\, 80909\, United States
CATEGORIES:Colorado NFL FLAG Football,Girls Play Flag Football
ATTACH;FMTTYPE=image/jpeg:https://justcompete.org/wp-content/uploads/2025/05/Fall_PreSeasonCO_EventBanner2.jpg
ORGANIZER;CN="Troy Bailey":MAILTO:troy@justcompete.org
END:VEVENT
BEGIN:VEVENT
DTSTART;TZID=UTC:20250816T140000
DTEND;TZID=UTC:20250816T170000
DTSTAMP:20260421T184312
CREATED:20250512T065840Z
LAST-MODIFIED:20250515T173316Z
UID:2748-1755352800-1755363600@justcompete.org
SUMMARY:KC NFL FLAG Showdown: The Just Compete PreSeason Fall Classic (Fundraiser for Suicide Prevention)
DESCRIPTION:Description\nKC Suicide Prevention Tournament: The Just Compete PreSeason Fall Classic\n🚩 FREE Team Registration!Join the excitement and compete in the Kansas City Preseason NFL FLAG Tournament without any registration fees! \n🚪 Gate Fee: $5 Players & $10 Spectators. Your entry supports the tournament’s success\, covering referees\, field staff\, and more. Receive a wristband for full tournament access. \n📅 Date & Location: Westridge Middle School / August 16 2025 \n🏆 What’s in it for You? \n\n\nGuaranteed fun and competitive play\n\n\nProfessional referees and organized games\n\n\nMinimum of 3 games per team\n\n\nRings for Division Winners\n\n\n✨ Highlights: \n\n\nFREE team registration\n\n\n👉 Secure Your Team’s Spot! \nDon’t miss out on this incredible opportunity to kick off your flag football season bring you team! This will be FUN event offering a unique platform for teams of all skill levels to engage in healthy competition\, develop their flag football abilities\, and most importantly\, have a blast with peers who share the same enthusiasm for the sport. \nQuestions? Email tournaments@justcompete.org \nSport\nCoed Football (Flag) \nDivisions\n\nShula – 8U\n\n*For example – Must be 8 years old or younger before August 1\, 2024\nMin Players : 5\nMax Players : 10\n\n\nMadden Rookie – 10U\n\n*For example – Must be 10 years old or younger before August 1\, 2024\nMin Players : 5\nMax Players : 10\n\n\nMadden Pro – 12U\n\n*For example – Must be 12 years old or younger before August 1\, 2024\nMin Players : 5\nMax Players : 10\n\n\nMadden All Pro – 14U\n\n*For example – Must be 14 years old or younger before August 1\, 2024\nMin Players : 5\nMax Players : 10
URL:https://justcompete.org/event/kc-nfl-flag-showdown-the-just-compete-preseason-fall-classic-fundraiser-for-suicide-prevention/
LOCATION:Westridge Middle School\, 9300 Nieman RD\, Overland Park\, 66214\, United States
CATEGORIES:Girls Play Flag Football,Kansas City Flag Football
ATTACH;FMTTYPE=image/jpeg:https://justcompete.org/wp-content/uploads/2025/05/Fall_PreSeasonKC_EventBanner-1.jpg
ORGANIZER;CN="Troy Bailey":MAILTO:troy@justcompete.org
END:VEVENT
BEGIN:VEVENT
DTSTART;TZID=UTC:20250530T080000
DTEND;TZID=UTC:20250530T170000
DTSTAMP:20260421T184312
CREATED:20250517T050304Z
LAST-MODIFIED:20250517T050304Z
UID:2792-1748592000-1748624400@justcompete.org
SUMMARY:Chiefs & Royals Camp
DESCRIPTION:
URL:https://justcompete.org/event/chiefs-royals-camp/
LOCATION:Kansas City Urban Youth Academy\, 1622 E. 17th Terrace\, Kansas City\, MO\, 64108\, United States
CATEGORIES:For the Love of the Game,Girls Got Game,Girls Play Flag Football,Kansas City Flag Football
ATTACH;FMTTYPE=image/jpeg:https://justcompete.org/wp-content/uploads/2025/05/Royals-X-Chiefs-Youth-Camp-Flyer.jpg
END:VEVENT
END:VCALENDAR