BEGIN:VCALENDAR
VERSION:2.0
PRODID:-//Just Compete Sports - ECPv6.15.17//NONSGML v1.0//EN
CALSCALE:GREGORIAN
METHOD:PUBLISH
X-WR-CALNAME:Just Compete Sports
X-ORIGINAL-URL:https://justcompete.org
X-WR-CALDESC:Events for Just Compete Sports
REFRESH-INTERVAL;VALUE=DURATION:PT1H
X-Robots-Tag:noindex
X-PUBLISHED-TTL:PT1H
BEGIN:VTIMEZONE
TZID:UTC
BEGIN:STANDARD
TZOFFSETFROM:+0000
TZOFFSETTO:+0000
TZNAME:UTC
DTSTART:20240101T000000
END:STANDARD
END:VTIMEZONE
BEGIN:VTIMEZONE
TZID:America/Denver
BEGIN:DAYLIGHT
TZOFFSETFROM:-0700
TZOFFSETTO:-0600
TZNAME:MDT
DTSTART:20240310T090000
END:DAYLIGHT
BEGIN:STANDARD
TZOFFSETFROM:-0600
TZOFFSETTO:-0700
TZNAME:MST
DTSTART:20241103T080000
END:STANDARD
BEGIN:DAYLIGHT
TZOFFSETFROM:-0700
TZOFFSETTO:-0600
TZNAME:MDT
DTSTART:20250309T090000
END:DAYLIGHT
BEGIN:STANDARD
TZOFFSETFROM:-0600
TZOFFSETTO:-0700
TZNAME:MST
DTSTART:20251102T080000
END:STANDARD
BEGIN:DAYLIGHT
TZOFFSETFROM:-0700
TZOFFSETTO:-0600
TZNAME:MDT
DTSTART:20260308T090000
END:DAYLIGHT
BEGIN:STANDARD
TZOFFSETFROM:-0600
TZOFFSETTO:-0700
TZNAME:MST
DTSTART:20261101T080000
END:STANDARD
END:VTIMEZONE
BEGIN:VEVENT
DTSTART;TZID=UTC:20260321T080000
DTEND;TZID=UTC:20260321T170000
DTSTAMP:20260421T092156
CREATED:20260113T060515Z
LAST-MODIFIED:20260121T170809Z
UID:3583-1774080000-1774112400@justcompete.org
SUMMARY:The Heartland Invitational 5v5
DESCRIPTION:5v5 THE HEARTLAND INVITATIONAL Spring Rush — The Drive Begins\nFootball (5v5) Tournament – March 21\, 2026
URL:https://justcompete.org/event/the-heartland-invitational-5v5/
LOCATION:MO
CATEGORIES:Girls Play Flag Football,Kansas City Flag Football,Tournaments
ATTACH;FMTTYPE=image/jpeg:https://justcompete.org/wp-content/uploads/2026/01/Spring_Tournament_KC_940x516.jpg
ORGANIZER;CN="Troy Bailey":MAILTO:troy@justcompete.org
END:VEVENT
BEGIN:VEVENT
DTSTART;TZID=UTC:20260321T080000
DTEND;TZID=UTC:20260321T170000
DTSTAMP:20260421T092156
CREATED:20260113T060357Z
LAST-MODIFIED:20260113T060357Z
UID:3581-1774080000-1774112400@justcompete.org
SUMMARY:The Heartland Invitational 7v7
DESCRIPTION:
URL:https://justcompete.org/event/the-heartland-invitational-7v7/
LOCATION:MO
CATEGORIES:Girls Play Flag Football,Kansas City Flag Football,Tournaments
ATTACH;FMTTYPE=image/jpeg:https://justcompete.org/wp-content/uploads/2026/01/Spring_Tournament_KC_940x516.jpg
ORGANIZER;CN="Troy Bailey":MAILTO:troy@justcompete.org
END:VEVENT
BEGIN:VEVENT
DTSTART;TZID=UTC:20260314T080000
DTEND;TZID=UTC:20260314T170000
DTSTAMP:20260421T092156
CREATED:20260113T054227Z
LAST-MODIFIED:20260121T170536Z
UID:3579-1773475200-1773507600@justcompete.org
SUMMARY:Rocky Mountain Rumble 5v5 Tournament
DESCRIPTION:
URL:https://justcompete.org/event/rocky-mountain-rumble-5v5-tournament/
LOCATION:MO
CATEGORIES:Colorado NFL FLAG Football,Tournaments
ATTACH;FMTTYPE=image/jpeg:https://justcompete.org/wp-content/uploads/2026/01/Spring_Tournament_CO_940x516.jpg
ORGANIZER;CN="Troy Bailey":MAILTO:troy@justcompete.org
END:VEVENT
BEGIN:VEVENT
DTSTART;TZID=UTC:20260314T080000
DTEND;TZID=UTC:20260314T170000
DTSTAMP:20260421T092156
CREATED:20260113T053901Z
LAST-MODIFIED:20260113T053901Z
UID:3576-1773475200-1773507600@justcompete.org
SUMMARY:Rocky Mountain Rumble 7v7 Tournament
DESCRIPTION:
URL:https://justcompete.org/event/rocky-mountain-rumble-7v7-tournament/
LOCATION:MO
CATEGORIES:Colorado NFL FLAG Football,Tournaments
ATTACH;FMTTYPE=image/jpeg:https://justcompete.org/wp-content/uploads/2026/01/Spring_Tournament_CO_940x516.jpg
ORGANIZER;CN="Troy Bailey":MAILTO:troy@justcompete.org
END:VEVENT
BEGIN:VEVENT
DTSTART;TZID=UTC:20260228T120000
DTEND;TZID=UTC:20260228T160000
DTSTAMP:20260421T092156
CREATED:20260127T183715Z
LAST-MODIFIED:20260127T183752Z
UID:3594-1772280000-1772294400@justcompete.org
SUMMARY:Kansas City 4LG Jamboree
DESCRIPTION:KC – For The Love of the Game-Spring 2026 \nKansas City Jamboree – For The Love of the Game (Spring 2026)\nOpen To: Boys & Girls ages 4–18 – all skill levels are welcome!\nDate: Saturday\, February 28\, 2026\nMake-Up Date (Weather): Saturday\, March 14\, 2026\nCost: $19 per player\nLocation: Notre Dame de Sion High School\n10631 Wornall Rd.\, Kansas City\, MO 64114\n\nAbout the Jamboree\nJoin us for an exciting day of flag football at the Kansas City Jamboree – For The Love of the Game! This fun\, non-contact event combines skill development\, teamwork\, and game-time excitement in one action-packed afternoon.\nPlayers will participate in a dynamic skills clinic focused on passing\, catching\, route running\, defense\, and teamwork — followed by live scrimmage play to put their new skills into action. Whether you’re brand new to the sport or looking to level up your game\, this is the perfect opportunity to learn\, compete\, and connect with other athletes across the Kansas City area.\n\nCheck-In: Starts at 1:00 PM\nClinic: 2:00 PM – 4:00 PM\nScrimmage: 4:15 PM – 5:00 PM\nCome ready to have fun\, make new friends\, and celebrate the game we all love — Flag Football!
URL:https://justcompete.org/event/kansas-city-4lg-jamboree/
LOCATION:Notre Dame de Sion High School\, 10631 Wornall Rd.\, Kansas City\, MO\, 64114\, United States
CATEGORIES:For the Love of the Game,Kansas City Flag Football
ATTACH;FMTTYPE=image/jpeg:https://justcompete.org/wp-content/uploads/2026/01/2026-Spring-Jamboree-_4LG-KC.jpg
ORGANIZER;CN="Troy Bailey":MAILTO:troy@justcompete.org
END:VEVENT
BEGIN:VEVENT
DTSTART;TZID=UTC:20260221T130000
DTEND;TZID=UTC:20260221T160000
DTSTAMP:20260421T092156
CREATED:20251218T052029Z
LAST-MODIFIED:20260127T184101Z
UID:3561-1771678800-1771689600@justcompete.org
SUMMARY:Colorado 4LG Spring Jamboree
DESCRIPTION:CO – For The Love of the Game-Spring 2026 \nColorado Jamboree Registration\nOpen To: Boys & Girls ages 4–17– all skill levels are welcome!\nDate: Saturday\, February 21\nMake-Up Date (Weather): Saturday\, March 7\nCost: $19 per player\nLocation: Lowry Sports Complex (Turf Fields) – 8200 E Sports Blvd\, Denver\, CO 80230\n\nAbout the Jamboree:\nJoin us for an exciting day of flag football at the Colorado Jamboree! This event combines skill-building\, teamwork\, and game-time excitement in a fun\, non-contact environment. Players will participate in a dynamic clinic and finish the day with live scrimmage play\, giving them the chance to put their new skills into action.\nWhether you’re brand new to the sport or looking to sharpen your game\, this is the perfect opportunity to learn\, compete\, and connect with other players across Colorado.\nCheck-In: Starts at 1:00 PM\nClinic: 2:00 PM – 4:00 PM\nScrimmage: 4:15 PM – 5:00 PM\nCome ready to have fun\, make new friends\, and celebrate the game we all love — Flag Football!
URL:https://justcompete.org/event/colorado-4lg-spring-jamboree/
LOCATION:MO
ATTACH;FMTTYPE=image/jpeg:https://justcompete.org/wp-content/uploads/2025/12/2026-Spring-Jamboree-_4LG-CO_EventBanner.jpg
ORGANIZER;CN="Troy Bailey":MAILTO:troy@justcompete.org
END:VEVENT
BEGIN:VEVENT
DTSTART;TZID=UTC:20250914T140000
DTEND;TZID=UTC:20250914T170000
DTSTAMP:20260421T092156
CREATED:20250512T065238Z
LAST-MODIFIED:20250802T034032Z
UID:2746-1757858400-1757869200@justcompete.org
SUMMARY:Colorado NFL FLAG Showdown: The Just Compete Fall Preseason Classic (Fundraiser for Suicide Prevention)
DESCRIPTION:Description\nColorado NFL FLAG Showdown: The Just Compete Fall PreSeason Classic \n2025 Colorado Preseason NFL FLAG Tournament \n🚩 FREE Team Registration! Join the excitement and compete in the Colorado Preseason NFL FLAG Tournament without any registration fees! \n🚪 Gate Fee: $10 (Includes Players & Spectators)Your entry supports the tournament’s success\, covering referees\, field staff\, and more. Receive a wristband for full tournament access. \n📅 Date & Location: Colorado Springs\, CO – Garry Berry Stadium / September 14\, 2025 \n🏆 What’s in it for You? \n\n\nGuaranteed fun and competitive play\n\n\nProfessional referees and organized games\n\n\nMinimum of 3 games per team\n\n\nRings for Division Winners\n\n\n✨ Highlights: \n\n\nFREE team registration\n\n\n👉 Secure Your Team’s Spot! \nDon’t miss out on this incredible opportunity to kick off your flag football season bring you team! This will be FUN event offering a unique platform for teams of all skill levels to engage in healthy competition\, develop their flag football abilities\, and most importantly\, have a blast with peers who share the same enthusiasm for the sport. \nQuestions? Email tournaments@justcompete.org \nSport\nCoed Football (Flag) \nDivisions\n\nShula – 8U\n\n*For example – Must be 8 years old or younger before August 1\, 2024\nMin Players : 5\nMax Players : 10\n\n\nMadden Rookie – 10U\n\n*For example – Must be 10 years old or younger before August 1\, 2024\nMin Players : 5\nMax Players : 10\n\n\nMadden Pro – 12U\n\n*For example – Must be 12 years old or younger before August 1\, 2024\nMin Players : 5\nMax Players : 10\n\n\nMadden All Pro – 14U\n\n*For example – Must be 14 years old or younger before August 1\, 2024\nMin Players : 5\nMax Players : 10
URL:https://justcompete.org/event/pre-season-tournament-suicide-prevention-fundraiser/
LOCATION:Garry Berry Stadium\, 2020 Glenn Summer Rd\, Colorado Springs\, CO\, 80909\, United States
CATEGORIES:Colorado NFL FLAG Football,Girls Play Flag Football
ATTACH;FMTTYPE=image/jpeg:https://justcompete.org/wp-content/uploads/2025/05/Fall_PreSeasonCO_EventBanner2.jpg
ORGANIZER;CN="Troy Bailey":MAILTO:troy@justcompete.org
END:VEVENT
BEGIN:VEVENT
DTSTART;TZID=UTC:20250816T140000
DTEND;TZID=UTC:20250816T170000
DTSTAMP:20260421T092156
CREATED:20250512T065840Z
LAST-MODIFIED:20250515T173316Z
UID:2748-1755352800-1755363600@justcompete.org
SUMMARY:KC NFL FLAG Showdown: The Just Compete PreSeason Fall Classic (Fundraiser for Suicide Prevention)
DESCRIPTION:Description\nKC Suicide Prevention Tournament: The Just Compete PreSeason Fall Classic\n🚩 FREE Team Registration!Join the excitement and compete in the Kansas City Preseason NFL FLAG Tournament without any registration fees! \n🚪 Gate Fee: $5 Players & $10 Spectators. Your entry supports the tournament’s success\, covering referees\, field staff\, and more. Receive a wristband for full tournament access. \n📅 Date & Location: Westridge Middle School / August 16 2025 \n🏆 What’s in it for You? \n\n\nGuaranteed fun and competitive play\n\n\nProfessional referees and organized games\n\n\nMinimum of 3 games per team\n\n\nRings for Division Winners\n\n\n✨ Highlights: \n\n\nFREE team registration\n\n\n👉 Secure Your Team’s Spot! \nDon’t miss out on this incredible opportunity to kick off your flag football season bring you team! This will be FUN event offering a unique platform for teams of all skill levels to engage in healthy competition\, develop their flag football abilities\, and most importantly\, have a blast with peers who share the same enthusiasm for the sport. \nQuestions? Email tournaments@justcompete.org \nSport\nCoed Football (Flag) \nDivisions\n\nShula – 8U\n\n*For example – Must be 8 years old or younger before August 1\, 2024\nMin Players : 5\nMax Players : 10\n\n\nMadden Rookie – 10U\n\n*For example – Must be 10 years old or younger before August 1\, 2024\nMin Players : 5\nMax Players : 10\n\n\nMadden Pro – 12U\n\n*For example – Must be 12 years old or younger before August 1\, 2024\nMin Players : 5\nMax Players : 10\n\n\nMadden All Pro – 14U\n\n*For example – Must be 14 years old or younger before August 1\, 2024\nMin Players : 5\nMax Players : 10
URL:https://justcompete.org/event/kc-nfl-flag-showdown-the-just-compete-preseason-fall-classic-fundraiser-for-suicide-prevention/
LOCATION:Westridge Middle School\, 9300 Nieman RD\, Overland Park\, 66214\, United States
CATEGORIES:Girls Play Flag Football,Kansas City Flag Football
ATTACH;FMTTYPE=image/jpeg:https://justcompete.org/wp-content/uploads/2025/05/Fall_PreSeasonKC_EventBanner-1.jpg
ORGANIZER;CN="Troy Bailey":MAILTO:troy@justcompete.org
END:VEVENT
BEGIN:VEVENT
DTSTART;TZID=UTC:20250622T130000
DTEND;TZID=UTC:20250622T170000
DTSTAMP:20260421T092156
CREATED:20250423T155853Z
LAST-MODIFIED:20250510T064605Z
UID:2687-1750597200-1750611600@justcompete.org
SUMMARY:For the Love of the Game Jamboree MO
DESCRIPTION:
URL:https://justcompete.org/event/for-the-love-of-the-game-jamboree-mo/
LOCATION:Columbia College (Soccer Field)\, 1001 Rogers St.\, Columbia\, MO\, 65216\, United States
CATEGORIES:For the Love of the Game,Girls Got Game
ATTACH;FMTTYPE=image/jpeg:https://justcompete.org/wp-content/uploads/2025/04/Columbia_Jamboree_2025_FB_Banner-1.jpg
ORGANIZER;CN="Troy Bailey":MAILTO:troy@justcompete.org
END:VEVENT
BEGIN:VEVENT
DTSTART;TZID=UTC:20250530T080000
DTEND;TZID=UTC:20250530T170000
DTSTAMP:20260421T092156
CREATED:20250517T050304Z
LAST-MODIFIED:20250517T050304Z
UID:2792-1748592000-1748624400@justcompete.org
SUMMARY:Chiefs & Royals Camp
DESCRIPTION:
URL:https://justcompete.org/event/chiefs-royals-camp/
LOCATION:Kansas City Urban Youth Academy\, 1622 E. 17th Terrace\, Kansas City\, MO\, 64108\, United States
CATEGORIES:For the Love of the Game,Girls Got Game,Girls Play Flag Football,Kansas City Flag Football
ATTACH;FMTTYPE=image/jpeg:https://justcompete.org/wp-content/uploads/2025/05/Royals-X-Chiefs-Youth-Camp-Flyer.jpg
END:VEVENT
BEGIN:VEVENT
DTSTART;TZID=UTC:20250323T140000
DTEND;TZID=UTC:20250323T160000
DTSTAMP:20260421T092156
CREATED:20250301T055950Z
LAST-MODIFIED:20250303T155638Z
UID:2504-1742738400-1742745600@justcompete.org
SUMMARY:For the Love of the Game Jamboree KC
DESCRIPTION:
URL:https://justcompete.org/event/for-the-love-of-the-game-jamboree-kc/
LOCATION:Notre Dame de Sion High School\, 10631 Wornall Rd.\, Kansas City\, MO\, 64114\, United States
CATEGORIES:For the Love of the Game
ATTACH;FMTTYPE=image/jpeg:https://justcompete.org/wp-content/uploads/2025/03/4LG_KC_Backdrop-scaled.jpg
ORGANIZER;CN="Troy Bailey":MAILTO:troy@justcompete.org
END:VEVENT
BEGIN:VEVENT
DTSTART;TZID=America/Denver:20250308T140000
DTEND;TZID=America/Denver:20250308T160000
DTSTAMP:20260421T092156
CREATED:20250301T060453Z
LAST-MODIFIED:20250301T224711Z
UID:2508-1741442400-1741449600@justcompete.org
SUMMARY:For the Love of the Game Jamboree CO
DESCRIPTION:
URL:https://justcompete.org/event/for-the-love-of-the-game-co/
LOCATION:Newton Middle School\, 4401 E Arapahoe Rd.\, Centennial\, CO\, 80122\, United States
CATEGORIES:For the Love of the Game
ATTACH;FMTTYPE=image/jpeg:https://justcompete.org/wp-content/uploads/2025/03/4LG_CO_Backdrop_v2-scaled.jpg
ORGANIZER;CN="Ryan Smith":MAILTO:ryans@justcompete.org
END:VEVENT
END:VCALENDAR